BEGIN:VCALENDAR
VERSION:2.0
PRODID:-//Gateway Center Arena @ College Park - ECPv6.9.1//NONSGML v1.0//EN
CALSCALE:GREGORIAN
METHOD:PUBLISH
X-WR-CALNAME:Gateway Center Arena @ College Park
X-ORIGINAL-URL:https://gatewaycenterarena.com
X-WR-CALDESC:Events for Gateway Center Arena @ College Park
REFRESH-INTERVAL;VALUE=DURATION:PT1H
X-Robots-Tag:noindex
X-PUBLISHED-TTL:PT1H
BEGIN:VTIMEZONE
TZID:America/New_York
BEGIN:DAYLIGHT
TZOFFSETFROM:-0500
TZOFFSETTO:-0400
TZNAME:EDT
DTSTART:20250309T070000
END:DAYLIGHT
BEGIN:STANDARD
TZOFFSETFROM:-0400
TZOFFSETTO:-0500
TZNAME:EST
DTSTART:20251102T060000
END:STANDARD
END:VTIMEZONE
BEGIN:VEVENT
DTSTART;TZID=America/New_York:20250315T150000
DTEND;TZID=America/New_York:20250315T230000
DTSTAMP:20260423T075504
CREATED:20250221T220346Z
LAST-MODIFIED:20250227T165148Z
UID:9706-1742050800-1742079600@gatewaycenterarena.com
SUMMARY:HBCU ATL FEST Block Party - Saturday
DESCRIPTION:Get ready for the ultimate HBCU celebration! The HBCU Block Party is bringing celebrity appearances\, live performances\, food trucks\, giveaways\, contests\, vendors\, and DJs to the Gateway Center Arena VIP Parking Lot during SWAC Basketball Tournament Weekend. Don’t miss out!
URL:https://gatewaycenterarena.com/event/hbcu-atl-fest-block-party-saturday/
LOCATION:Arena at Gateway Center\, 2330 Convention Center Concourse\, College Park\, GA\, 30337
ATTACH;FMTTYPE=image/png:https://gatewaycenterarena.com/wp-content/uploads/2025/02/Screenshot-2025-02-21-at-3.56.34 PM.png
END:VEVENT
BEGIN:VEVENT
DTSTART;TZID=America/New_York:20250315T173000
DTEND;TZID=America/New_York:20250315T173000
DTSTAMP:20260423T075504
CREATED:20250221T214607Z
LAST-MODIFIED:20250228T165119Z
UID:9701-1742059800-1742059800@gatewaycenterarena.com
SUMMARY:SWAC Women's Championship Basketball Game - Saturday
DESCRIPTION:It’s game time! Join us Saturday evening at the SWAC Women’s Basketball Tournament for an epic showdown! Who’s ready for intense action on the court at Gateway Center Arena? Let’s pack the house and cheer on these future champions!
URL:https://gatewaycenterarena.com/event/swac-womens-championship-basketball-game-saturday/
LOCATION:Arena at Gateway Center\, 2330 Convention Center Concourse\, College Park\, GA\, 30337
CATEGORIES:Basketball,Esports
ATTACH;FMTTYPE=image/png:https://gatewaycenterarena.com/wp-content/uploads/2025/02/SWAC-Auxiliary-Deck-12.3-2-e1733296204995.png
END:VEVENT
BEGIN:VEVENT
DTSTART;TZID=America/New_York:20250315T203000
DTEND;TZID=America/New_York:20250315T203000
DTSTAMP:20260423T075504
CREATED:20250221T214239Z
LAST-MODIFIED:20250228T165152Z
UID:9699-1742070600-1742070600@gatewaycenterarena.com
SUMMARY:SWAC Men's Championship Basketball Game - Saturday
DESCRIPTION:It’s game time! Join us Saturday evening at the SWAC Men’s Basketball Tournament for an epic showdown! Who’s ready for intense action on the court at Gateway Center Arena? Let’s pack the house and cheer on these future champions!
URL:https://gatewaycenterarena.com/event/swac-mens-championship-basketball-game-saturday/
LOCATION:Arena at Gateway Center\, 2330 Convention Center Concourse\, College Park\, GA\, 30337
CATEGORIES:Basketball,Sports
ATTACH;FMTTYPE=image/png:https://gatewaycenterarena.com/wp-content/uploads/2025/02/SWAC-Auxiliary-Deck-12.3-2-e1733296204995.png
END:VEVENT
END:VCALENDAR