BEGIN:VCALENDAR
VERSION:2.0
PRODID:-//Gateway Center Arena @ College Park - ECPv6.9.1//NONSGML v1.0//EN
CALSCALE:GREGORIAN
METHOD:PUBLISH
X-WR-CALNAME:Gateway Center Arena @ College Park
X-ORIGINAL-URL:https://gatewaycenterarena.com
X-WR-CALDESC:Events for Gateway Center Arena @ College Park
REFRESH-INTERVAL;VALUE=DURATION:PT1H
X-Robots-Tag:noindex
X-PUBLISHED-TTL:PT1H
BEGIN:VTIMEZONE
TZID:America/New_York
BEGIN:DAYLIGHT
TZOFFSETFROM:-0500
TZOFFSETTO:-0400
TZNAME:EDT
DTSTART:20260308T070000
END:DAYLIGHT
BEGIN:STANDARD
TZOFFSETFROM:-0400
TZOFFSETTO:-0500
TZNAME:EST
DTSTART:20261101T060000
END:STANDARD
END:VTIMEZONE
BEGIN:VEVENT
DTSTART;TZID=America/New_York:20260328T130000
DTEND;TZID=America/New_York:20260328T130000
DTSTAMP:20260420T110738
CREATED:20260318T195113Z
LAST-MODIFIED:20260318T195113Z
UID:14030-1774702800-1774702800@gatewaycenterarena.com
SUMMARY:Georgia Coaches Association - All Star Classic - March 28\, 2026
DESCRIPTION:Georgia Coaches Association – All Star Classic coming to the Gateway Center Arena! \nPurchase your Tickets Today!
URL:https://gatewaycenterarena.com/event/georgia-coaches-association-all-star-classic-march-28-2026/
LOCATION:Arena at Gateway Center\, 2330 Convention Center Concourse\, College Park\, GA\, 30337
CATEGORIES:Sports
END:VEVENT
END:VCALENDAR