BEGIN:VCALENDAR
VERSION:2.0
PRODID:-//Gateway Center Arena @ College Park - ECPv6.9.1//NONSGML v1.0//EN
CALSCALE:GREGORIAN
METHOD:PUBLISH
X-ORIGINAL-URL:https://gatewaycenterarena.com
X-WR-CALDESC:Events for Gateway Center Arena @ College Park
REFRESH-INTERVAL;VALUE=DURATION:PT1H
X-Robots-Tag:noindex
X-PUBLISHED-TTL:PT1H
BEGIN:VTIMEZONE
TZID:America/New_York
BEGIN:DAYLIGHT
TZOFFSETFROM:-0500
TZOFFSETTO:-0400
TZNAME:EDT
DTSTART:20260308T070000
END:DAYLIGHT
BEGIN:STANDARD
TZOFFSETFROM:-0400
TZOFFSETTO:-0500
TZNAME:EST
DTSTART:20261101T060000
END:STANDARD
END:VTIMEZONE
BEGIN:VEVENT
DTSTART;TZID=America/New_York:20260602T193000
DTEND;TZID=America/New_York:20260602T193000
DTSTAMP:20260424T114509
CREATED:20260406T144154Z
LAST-MODIFIED:20260406T144154Z
UID:14081-1780428600-1780428600@gatewaycenterarena.com
SUMMARY:Connecticut Sun vs. Atlanta Dream
DESCRIPTION:Get your tickets before they’re sold out!
URL:https://gatewaycenterarena.com/event/connecticut-sun-vs-atlanta-dream-11/
LOCATION:Arena at Gateway Center\, 2330 Convention Center Concourse\, College Park\, GA\, 30337
CATEGORIES:Atlanta Dream,Basketball
ATTACH;FMTTYPE=image/jpeg:https://gatewaycenterarena.com/wp-content/uploads/2025/03/Connecticut-Sun-scaled.jpg
END:VEVENT
BEGIN:VEVENT
DTSTART;TZID=America/New_York:20260606T180000
DTEND;TZID=America/New_York:20260606T180000
DTSTAMP:20260424T114509
CREATED:20260406T144454Z
LAST-MODIFIED:20260406T144454Z
UID:14079-1780768800-1780768800@gatewaycenterarena.com
SUMMARY:Washington Mystics vs. Atlanta Dream
DESCRIPTION:Get your tickets before they’re sold out!
URL:https://gatewaycenterarena.com/event/washington-mystics-vs-atlanta-dream-12/
LOCATION:GA
CATEGORIES:Atlanta Dream,Basketball
ATTACH;FMTTYPE=image/jpeg:https://gatewaycenterarena.com/wp-content/uploads/2025/03/Washington-Mystics-scaled.jpg
END:VEVENT
BEGIN:VEVENT
DTSTART;TZID=America/New_York:20260611T193000
DTEND;TZID=America/New_York:20260611T193000
DTSTAMP:20260424T114509
CREATED:20260406T144829Z
LAST-MODIFIED:20260406T144829Z
UID:14082-1781206200-1781206200@gatewaycenterarena.com
SUMMARY:New York Liberty vs. Atlanta Dream
DESCRIPTION:Get your tickets before they’re sold out!
URL:https://gatewaycenterarena.com/event/new-york-liberty-vs-atlanta-dream-15/
LOCATION:Arena at Gateway Center\, 2330 Convention Center Concourse\, College Park\, GA\, 30337
CATEGORIES:Atlanta Dream,Basketball
ATTACH;FMTTYPE=image/jpeg:https://gatewaycenterarena.com/wp-content/uploads/2025/03/New-York-Liberty-scaled.jpg
END:VEVENT
END:VCALENDAR